BEGIN:VCALENDAR
VERSION:2.0
PRODID:-//Sergio Marchesini - ECPv5.16.4//NONSGML v1.0//EN
CALSCALE:GREGORIAN
METHOD:PUBLISH
X-WR-CALNAME:Sergio Marchesini
X-ORIGINAL-URL:https://sergiomarchesini.it
X-WR-CALDESC:Events for Sergio Marchesini
BEGIN:VTIMEZONE
TZID:UTC
BEGIN:STANDARD
TZOFFSETFROM:+0000
TZOFFSETTO:+0000
TZNAME:UTC
DTSTART:20220101T000000
END:STANDARD
END:VTIMEZONE
BEGIN:VEVENT
DTSTART;TZID=UTC:20221212T210000
DTEND;TZID=UTC:20221212T210000
DTSTAMP:20260422T183433
CREATED:20221211T192711Z
LAST-MODIFIED:20221211T192711Z
UID:1266-1670878800-1670878800@sergiomarchesini.it
SUMMARY:Eroi a Piove di Sacco e su Rai 5
DESCRIPTION:Cosa rimane oggi dell’Iliade? È possibile raccontarla ancora? Eppure basta poco: basta trovare un episodio che risuoni della tua esperienza personale e lo puoi usare come grimaldello per entrare in questa fortezza piena di tesori appena velati dal tempo\, intimorito e umile di fronte alla bellezza. E’ stato scelto il racconto\, più vicino possibile a quello originario del primo grande narratore della storia\, per permettere a ognuno degli spettatori di “vedere” nella propria mente\, di riempire le parole del narrato con le immagini della propria esperienza e della fantasia aiutati dalle musiche composte ad hoc da Giorgio Gobbo e Sergio Marchesini. \nAttenzione!\nIn occasione dello spettacolo verranno effettuate delle riprese per Rai 5\, acquistando il biglietto troverete la liberatoria da consegnare in Teatro la sera dello spettacolo. \n\n\n\nTEATRO FILARMONICO COMUNALE\n\n\n\n via Giacomo Matteotti PIOVE DI SACCO (PD)\n\n\n\ninfo https://www.vivaticket.com/it/ticket/omero-non-piange-mai-eroi/198959
URL:https://sergiomarchesini.it/event/eroi-a-piove-di-sacco-e-su-rai-5/
ATTACH;FMTTYPE=image/jpeg:https://sergiomarchesini.it/wp-content/uploads/2022/12/foto_Andrea_Pennacchi_638dc03457259.jpeg
END:VEVENT
END:VCALENDAR