BEGIN:VCALENDAR
VERSION:2.0
PRODID:-//Sergio Marchesini - ECPv5.16.4//NONSGML v1.0//EN
CALSCALE:GREGORIAN
METHOD:PUBLISH
X-WR-CALNAME:Sergio Marchesini
X-ORIGINAL-URL:https://sergiomarchesini.it
X-WR-CALDESC:Events for Sergio Marchesini
BEGIN:VTIMEZONE
TZID:UTC
BEGIN:STANDARD
TZOFFSETFROM:+0000
TZOFFSETTO:+0000
TZNAME:UTC
DTSTART:20220101T000000
END:STANDARD
END:VTIMEZONE
BEGIN:VEVENT
DTSTART;TZID=UTC:20220505T211500
DTEND;TZID=UTC:20220505T230000
DTSTAMP:20260422T090348
CREATED:20220425T210302Z
LAST-MODIFIED:20220425T210302Z
UID:1125-1651785300-1651791600@sergiomarchesini.it
SUMMARY:Il francese
DESCRIPTION:Con Massimo Carlotto – voce narrante\nMaurizio Camardi – sassofoni\, duduk\nSergio Marchesini – fisarmonica \nMassimo Carlotto\, uno degli autori più amati e incisivi del noir italiano\, debutta con “IL FRANCESE” nel Giallo Mondadori con un nuovo\, iconico personaggio\, dimostrando per l’ennesima volta il suo talento unico nel raccontare la nostra società e gli scheletri che cerca di nascondere nell’armadio.  Insieme a lui sul palco\, per questo reading in prima assoluta\, l’inseparabile compagno di avventure Maurizio Camardi – sassofonista padovano che appare anche come personaggio in alcuni libri di Carlotto – e il fisarmonicista Sergio Marchesini\, autore di musiche per il cinema e per il teatro con collaborazioni importanti con Giuseppe Battiston\, Andrea Segre e Andrea Pennacchi. \nIn collaborazione con Scuola di musica Gershwin APS \nMULTIASTRA – SALA TECHNICOLOR\nvia T. Aspetti n.21 \n 
URL:https://sergiomarchesini.it/event/il-francese/
ATTACH;FMTTYPE=image/jpeg:https://sergiomarchesini.it/wp-content/uploads/2022/04/RAM-WEB-CARLOTTO.jpeg
END:VEVENT
END:VCALENDAR