BEGIN:VCALENDAR
VERSION:2.0
PRODID:-//Sergio Marchesini - ECPv5.16.4//NONSGML v1.0//EN
CALSCALE:GREGORIAN
METHOD:PUBLISH
X-WR-CALNAME:Sergio Marchesini
X-ORIGINAL-URL:https://sergiomarchesini.it
X-WR-CALDESC:Events for Sergio Marchesini
BEGIN:VTIMEZONE
TZID:UTC
BEGIN:STANDARD
TZOFFSETFROM:+0000
TZOFFSETTO:+0000
TZNAME:UTC
DTSTART:20210101T000000
END:STANDARD
END:VTIMEZONE
BEGIN:VEVENT
DTSTART;TZID=UTC:20211017T210000
DTEND;TZID=UTC:20211017T210000
DTSTAMP:20260420T001512
CREATED:20210912T140717Z
LAST-MODIFIED:20210912T140717Z
UID:802-1634504400-1634504400@sergiomarchesini.it
SUMMARY:Mancamento Azzurro @ Carta Carbone (TV)
DESCRIPTION:Del poeta Andrea Zanzotto ricorre quest’anno il centenario della nascita e Vasco Mirandola\, con i musicisti Erica Boschiero e Sergio Marchesini\, compie un viaggio a ritroso nella produzione del grande poeta\, alla ricerca di quell’alone “dove i suoni possono dialogare con le parole per portare alla mente\, al cuore\, quello che la poesia dice ma non dice del tutto”. Zanzotto è stato uno dei pionieri della corrente ecologista nella letteratura italiana e uno dei pochi autori contemporanei sensibile al dialogo tra storia e geografia.
URL:https://sergiomarchesini.it/event/mancamento-azzurro-carta-carbone-tv/
ATTACH;FMTTYPE=image/jpeg:https://sergiomarchesini.it/wp-content/uploads/2021/07/206595872_227536222530225_3990114858989147962_n.jpeg
END:VEVENT
END:VCALENDAR