BEGIN:VCALENDAR
VERSION:2.0
PRODID:-//Sergio Marchesini - ECPv5.16.4//NONSGML v1.0//EN
CALSCALE:GREGORIAN
METHOD:PUBLISH
X-WR-CALNAME:Sergio Marchesini
X-ORIGINAL-URL:https://sergiomarchesini.it
X-WR-CALDESC:Events for Sergio Marchesini
BEGIN:VTIMEZONE
TZID:UTC
BEGIN:STANDARD
TZOFFSETFROM:+0000
TZOFFSETTO:+0000
TZNAME:UTC
DTSTART:20260101T000000
END:STANDARD
END:VTIMEZONE
BEGIN:VEVENT
DTSTART;TZID=UTC:20260529T193000
DTEND;TZID=UTC:20260529T193000
DTSTAMP:20260419T164809
CREATED:20260212T171226Z
LAST-MODIFIED:20260212T171315Z
UID:1580-1780083000-1780083000@sergiomarchesini.it
SUMMARY:Nell'Aria Alta in duo al Santo
DESCRIPTION:ORATORIO DI SAN GIORGIO Piazza del Santo 11 | Padova\nDettagli in arrivo!
URL:https://sergiomarchesini.it/event/nellaria-alta-in-duo-al-santo/
ATTACH;FMTTYPE=image/png:https://sergiomarchesini.it/wp-content/uploads/2026/02/vasco_e_sergio.png
END:VEVENT
END:VCALENDAR