BEGIN:VCALENDAR
VERSION:2.0
PRODID:-//Sergio Marchesini - ECPv5.16.4//NONSGML v1.0//EN
CALSCALE:GREGORIAN
METHOD:PUBLISH
X-WR-CALNAME:Sergio Marchesini
X-ORIGINAL-URL:https://sergiomarchesini.it
X-WR-CALDESC:Events for Sergio Marchesini
BEGIN:VTIMEZONE
TZID:UTC
BEGIN:STANDARD
TZOFFSETFROM:+0000
TZOFFSETTO:+0000
TZNAME:UTC
DTSTART:20220101T000000
END:STANDARD
END:VTIMEZONE
BEGIN:VEVENT
DTSTART;TZID=UTC:20220514T194500
DTEND;TZID=UTC:20220514T224500
DTSTAMP:20260422T132339
CREATED:20220514T194500Z
LAST-MODIFIED:20220425T210404Z
UID:1121-1652557500-1652568300@sergiomarchesini.it
SUMMARY:Respira Duo / Paris
DESCRIPTION: Espace Jemmapes  (116\, Quai de Jemmapes Paris 10e) \nLa première édition du Festival Canzoni&Parole consacré à la chanson à texte italienne se tiendra à Paris du 12 au 14 mai prochains.  Il présentera une belle affiche d’auteurs-compositeurs-interprètes  provenant de différentes régions d’Italie\, représentatifs de la chanson actuelle et de ces dernières décennies \npour tout renseignement \ncanzoni-parole@musicaitaliana.fr\n+33 (0)6 73 18 54 28 \n 
URL:https://sergiomarchesini.it/event/respira-duo-paris/
ATTACH;FMTTYPE=image/jpeg:https://sergiomarchesini.it/wp-content/uploads/2021/12/229861461_10221501984711656_1611685356392617436_n.jpeg
END:VEVENT
END:VCALENDAR