BEGIN:VCALENDAR
VERSION:2.0
PRODID:-//Sergio Marchesini - ECPv5.16.4//NONSGML v1.0//EN
CALSCALE:GREGORIAN
METHOD:PUBLISH
X-WR-CALNAME:Sergio Marchesini
X-ORIGINAL-URL:https://sergiomarchesini.it
X-WR-CALDESC:Events for Sergio Marchesini
BEGIN:VTIMEZONE
TZID:UTC
BEGIN:STANDARD
TZOFFSETFROM:+0000
TZOFFSETTO:+0000
TZNAME:UTC
DTSTART:20260101T000000
END:STANDARD
END:VTIMEZONE
BEGIN:VEVENT
DTSTART;TZID=UTC:20260214T210000
DTEND;TZID=UTC:20260214T223000
DTSTAMP:20260423T034010
CREATED:20260212T172250Z
LAST-MODIFIED:20260212T172250Z
UID:1587-1771102800-1771108200@sergiomarchesini.it
SUMMARY:Tienici la mano\, portaci in salvo @ casa respiro
DESCRIPTION:
URL:https://sergiomarchesini.it/event/tienici-la-mano-portaci-in-salvo-casa-respiro/
ATTACH;FMTTYPE=image/jpeg:https://sergiomarchesini.it/wp-content/uploads/2026/02/631541911_909458938334480_5243437244294626962_n.jpg
END:VEVENT
END:VCALENDAR