BEGIN:VCALENDAR
VERSION:2.0
PRODID:-//Sergio Marchesini - ECPv5.16.4//NONSGML v1.0//EN
CALSCALE:GREGORIAN
METHOD:PUBLISH
X-WR-CALNAME:Sergio Marchesini
X-ORIGINAL-URL:https://sergiomarchesini.it
X-WR-CALDESC:Events for Sergio Marchesini
BEGIN:VTIMEZONE
TZID:UTC
BEGIN:STANDARD
TZOFFSETFROM:+0000
TZOFFSETTO:+0000
TZNAME:UTC
DTSTART:20220101T000000
END:STANDARD
END:VTIMEZONE
BEGIN:VEVENT
DTSTART;TZID=UTC:20221207T211500
DTEND;TZID=UTC:20221207T230000
DTSTAMP:20260422T171734
CREATED:20221128T194118Z
LAST-MODIFIED:20221128T194118Z
UID:1261-1670447700-1670454000@sergiomarchesini.it
SUMMARY:Trent'anni scritti e suonati
DESCRIPTION:MERCOLEDÌ 7 DICEMBRE I ORE 21:15 TEATRO MADDALENE via S. Giovanni da Verdara 401 Padova TRENT’ANNI SCRITTI E SUONATI PRIMA ASSOLUTA\ncon \nMassimo Carlotto voce narrante\nMaurizio Camardi sassofoni\, duduk\nSergio Marchesini fisarmonica \nIl Teatro Maddalene — piccolo teatro situato all’interno dell’oratorio delle Maddalena\, chiesa di un complesso conventuale del XIV secolo — ospita la prima nazionale del nuovo spettacolo di Massimo Carlotto. Due amici — uno scrittore\, l’altro musicista — raccontano un percorso lungo ormai trent’anni di creazione e sviluppo di progetti teatrali\, musicali\, cinematografici e televisivi. Percorso che ha coinvolto nel tempo altri amici artisti\, anche su terreni solidali e di impegno civile. Una storia di incontri\, condivisioni\, esperienze\, aneddoti. Uno sguardo sul mondo\, sull’Italia che è cambiata. \nINGRESSO gratuito fino a esaurimento posti PRENOTAZIONE obbligatoria su novembrepatavino.it
URL:https://sergiomarchesini.it/event/trentanni-scritti-e-suonati/
ATTACH;FMTTYPE=image/jpeg:https://sergiomarchesini.it/wp-content/uploads/2022/11/2020-08-26-massimo-carlotto.jpeg
END:VEVENT
END:VCALENDAR