BEGIN:VCALENDAR
VERSION:2.0
PRODID:-//Sergio Marchesini - ECPv5.16.4//NONSGML v1.0//EN
CALSCALE:GREGORIAN
METHOD:PUBLISH
X-WR-CALNAME:Sergio Marchesini
X-ORIGINAL-URL:https://sergiomarchesini.it
X-WR-CALDESC:Events for Sergio Marchesini
BEGIN:VTIMEZONE
TZID:UTC
BEGIN:STANDARD
TZOFFSETFROM:+0000
TZOFFSETTO:+0000
TZNAME:UTC
DTSTART:20220101T000000
END:STANDARD
END:VTIMEZONE
BEGIN:VEVENT
DTSTART;TZID=UTC:20220507T183000
DTEND;TZID=UTC:20220507T200000
DTSTAMP:20260422T120821
CREATED:20220507T183000Z
LAST-MODIFIED:20220425T211549Z
UID:1136-1651948200-1651953600@sergiomarchesini.it
SUMMARY:Un mondo intero
DESCRIPTION:“Mi è sempre interessato lo sdoppiamento dei suoi personaggi.\nIl suo bisogno ossessivo di ricerca di una identità autentica.\nIl dramma della borghesia di cui Pasolini è interprete e allo stesso tempo spettatore\, come accade nel quadro Las Meninas in cui Velazquez dipinge se stesso mentre ritrae la famiglia reale. Pier Paolo Pasolini come Velazquez descrive i personaggi nelle sue storie ma nello stesso tempo sta dentro\, si identifica nella loro vita\, nella borghesia che in ogni epoca parla sempre lo stesso linguaggio. La forza di questo spettacolo è quella di avere riferimenti poetici altissimi ed essere allo stesso tempo innamorati della vita\, delle pulsioni popolari.\nAl centro della scena il rapporto tra musica e creazione\, individuo e potere\, tra dubbio e smarrimento in una costante alternanza fra realtà e allucinazione\, attraversando identità e contesti sociali diversi.\n\n\nLe sue poesie e il suo cinema le musiche di Sergio Marchesini e Francesco Ganassin mi hanno permesso di definire questo reading in forma scenica.\n\n\nVi aspettiamo”\nMirko Artuso\nSabato 7 Maggio alle ore 18.30\nSpazio Opendream – Treviso (ex ceramiche Pagnossin)
URL:https://sergiomarchesini.it/event/un-mondo-intero/
ATTACH;FMTTYPE=image/jpeg:https://sergiomarchesini.it/wp-content/uploads/2022/04/278940365_10227555193694516_8806702073191921799_n.jpeg
END:VEVENT
END:VCALENDAR